BEGIN:VCALENDAR
VERSION:2.0
PRODID:-//pretix//Pretix_DV_Freiburg//
BEGIN:VEVENT
UID:pretix-dvfr-MLT2026-0@anmeldung.dpsg-freiburg.de
DTSTART;VALUE=DATE:20260306
DTEND;VALUE=DATE:20260309
DESCRIPTION:Tickets: https://anmeldung.dpsg-freiburg.de/dvfr/MLT2026/\nEinl
 ass: 06.03.2026 00:00\nVeranstalter: DV Freiburg
DTSTAMP:20260419T220050Z
LOCATION:Baden-Powell-Haus in Gengenbach
SUMMARY:MLT 2026
END:VEVENT
END:VCALENDAR
