BEGIN:VCALENDAR
VERSION:2.0
PRODID:-//pretix//Pretix_DV_Freiburg//
BEGIN:VEVENT
UID:pretix-dvfr-bildungs-we2-0@anmeldung.dpsg-freiburg.de
DTSTART;VALUE=DATE:20250926
DTEND;VALUE=DATE:20250929
DESCRIPTION:Tickets: https://anmeldung.dpsg-freiburg.de/dvfr/bildungs-we2/\
 nVeranstalter: DV Freiburg
DTSTAMP:20260423T190835Z
LOCATION:Baden-Powell-Haus in Gengenbach
SUMMARY:Bildungswochenende 2.0
END:VEVENT
END:VCALENDAR
