BEGIN:VCALENDAR
VERSION:2.0
PRODID:-//pretix//Pretix_DV_Freiburg//
BEGIN:VEVENT
UID:pretix-dvfr-digi-mlt-2025-0@anmeldung.dpsg-freiburg.de
DTSTART;VALUE=DATE:20250603
DESCRIPTION:Tickets: https://anmeldung.dpsg-freiburg.de/dvfr/digi-mlt-2025/
 \nVeranstalter: DV Freiburg
DTSTAMP:20260423T231145Z
LOCATION:Online
SUMMARY:Digitales MLT
END:VEVENT
END:VCALENDAR
