BEGIN:VCALENDAR
VERSION:2.0
PRODID:-//pretix//Pretix_DV_Freiburg//
BEGIN:VEVENT
UID:pretix-dvfr-pflewo26-0@anmeldung.dpsg-freiburg.de
DTSTART;VALUE=DATE:20260710
DTEND;VALUE=DATE:20260713
DESCRIPTION:Tickets: https://anmeldung.dpsg-freiburg.de/dvfr/pflewo26/\nVer
 anstalter: DV Freiburg
DTSTAMP:20260425T192150Z
LOCATION:Sepp-Klumpp-Haus\, Kuppenheim / Gaggenau
SUMMARY:Pfadi-Leitendenwochenende "Auszeit & Kräuterhexerei"
END:VEVENT
END:VCALENDAR
